BEGIN:VCALENDAR
VERSION:2.0
PRODID:-//Sabre//Sabre VObject 4.5.8//EN
CALSCALE:GREGORIAN
BEGIN:VEVENT
UID:sabre-vobject-08d6a884-cf95-4565-8e9e-456c8d745654
DTSTAMP:20260422T053510Z
SUMMARY:Three-Point Challenge
DESCRIPTION:Showcase your Shot: Three-Point Challenge at Sabo PFC\n
X-ALT-DESC:FMTTYPE=text/html:<!DOCTYPE HTML PUBLIC "-//W3C//DTD HTML 3.2//E
 N"><HTML><p>Showcase your Shot: Three-Point Challenge at Sabo PFC</p>\n</H
 TML>
CREATED;TZID=America/Chicago:20260323T101610
URL;VALUE=URI:https://campbell.armymwr.com/calendar/event
DTSTART;TZID=America/Chicago:20260731T110000
DTEND;TZID=America/Chicago:20260731T123000
SEQUENCE:0
END:VEVENT
END:VCALENDAR
