BEGIN:VCALENDAR
VERSION:2.0
PRODID:-//Sabre//Sabre VObject 4.5.8//EN
CALSCALE:GREGORIAN
BEGIN:VEVENT
UID:sabre-vobject-40ed2d2a-a413-4de1-b542-ccbce5ca1f2d
DTSTAMP:20260425T121457Z
SUMMARY:Community Volleyball Tournament
DESCRIPTION:🏐 Get ready to SPIKE! 🏐 Community Volleyball Tournament i
 s Nov 1st! 8 teams max.\n
X-ALT-DESC:FMTTYPE=text/html:<!DOCTYPE HTML PUBLIC "-//W3C//DTD HTML 3.2//E
 N"><HTML><p>🏐 Get ready to SPIKE! 🏐 Community Volleyball Tournament 
 is Nov 1st! 8 teams max.</p>\n</HTML>
CREATED;TZID=America/Chicago:20250909T103217
URL;VALUE=URI:https://campbell.armymwr.com/calendar/event
DTSTART;TZID=America/Chicago:20251101T090000
DTEND;TZID=America/Chicago:20251101T100000
SEQUENCE:0
END:VEVENT
END:VCALENDAR
