BEGIN:VCALENDAR
VERSION:2.0
PRODID:-//Sabre//Sabre VObject 4.5.8//EN
CALSCALE:GREGORIAN
BEGIN:VEVENT
UID:sabre-vobject-b7a40754-f771-4754-960c-bd1a483db663
DTSTAMP:20260425T170506Z
SUMMARY:Water Aerobics
DESCRIPTION:This dynamic class offers a full-body workout with varied exerc
 ises in shallow and deep water\, utilizing equipment and upbeat music to b
 enefit both swimmers and non-swimmers of all fitness levels.\n
X-ALT-DESC:FMTTYPE=text/html:<!DOCTYPE HTML PUBLIC "-//W3C//DTD HTML 3.2//E
 N"><HTML><p>This dynamic class offers a full-body workout with varied exer
 cises in shallow and deep water\, utilizing equipment and upbeat music to 
 benefit both swimmers and non-swimmers of all fitness levels.</p>\n</HTML>
CREATED;TZID=America/Chicago:20251105T142803
URL;VALUE=URI:https://campbell.armymwr.com/calendar/event
DTSTART;TZID=America/Chicago:20251001T110000
DTEND;TZID=America/Chicago:20251001T113000
SEQUENCE:0
END:VEVENT
BEGIN:VEVENT
UID:sabre-vobject-7ae09a95-dd34-487c-a720-390c7635d656
DTSTAMP:20260425T170506Z
SUMMARY:Water Aerobics
DESCRIPTION:This dynamic class offers a full-body workout with varied exerc
 ises in shallow and deep water\, utilizing equipment and upbeat music to b
 enefit both swimmers and non-swimmers of all fitness levels.\n
X-ALT-DESC:FMTTYPE=text/html:<!DOCTYPE HTML PUBLIC "-//W3C//DTD HTML 3.2//E
 N"><HTML><p>This dynamic class offers a full-body workout with varied exer
 cises in shallow and deep water\, utilizing equipment and upbeat music to 
 benefit both swimmers and non-swimmers of all fitness levels.</p>\n</HTML>
CREATED;TZID=America/Chicago:20251105T142803
URL;VALUE=URI:https://campbell.armymwr.com/calendar/event
DTSTART;TZID=America/Chicago:20251203T110000
DTEND;TZID=America/Chicago:20251203T113000
SEQUENCE:1
END:VEVENT
BEGIN:VEVENT
UID:sabre-vobject-a1d98610-4444-49d5-9147-f114ea567f4a
DTSTAMP:20260425T170506Z
SUMMARY:Water Aerobics
DESCRIPTION:This dynamic class offers a full-body workout with varied exerc
 ises in shallow and deep water\, utilizing equipment and upbeat music to b
 enefit both swimmers and non-swimmers of all fitness levels.\n
X-ALT-DESC:FMTTYPE=text/html:<!DOCTYPE HTML PUBLIC "-//W3C//DTD HTML 3.2//E
 N"><HTML><p>This dynamic class offers a full-body workout with varied exer
 cises in shallow and deep water\, utilizing equipment and upbeat music to 
 benefit both swimmers and non-swimmers of all fitness levels.</p>\n</HTML>
CREATED;TZID=America/Chicago:20251105T142803
URL;VALUE=URI:https://campbell.armymwr.com/calendar/event
DTSTART;TZID=America/Chicago:20251205T110000
DTEND;TZID=America/Chicago:20251205T113000
SEQUENCE:2
END:VEVENT
BEGIN:VEVENT
UID:sabre-vobject-a2213d03-ae97-42e8-8f7f-9e4f3ce13246
DTSTAMP:20260425T170506Z
SUMMARY:Water Aerobics
DESCRIPTION:This dynamic class offers a full-body workout with varied exerc
 ises in shallow and deep water\, utilizing equipment and upbeat music to b
 enefit both swimmers and non-swimmers of all fitness levels.\n
X-ALT-DESC:FMTTYPE=text/html:<!DOCTYPE HTML PUBLIC "-//W3C//DTD HTML 3.2//E
 N"><HTML><p>This dynamic class offers a full-body workout with varied exer
 cises in shallow and deep water\, utilizing equipment and upbeat music to 
 benefit both swimmers and non-swimmers of all fitness levels.</p>\n</HTML>
CREATED;TZID=America/Chicago:20251105T142803
URL;VALUE=URI:https://campbell.armymwr.com/calendar/event
DTSTART;TZID=America/Chicago:20251210T110000
DTEND;TZID=America/Chicago:20251210T113000
SEQUENCE:3
END:VEVENT
BEGIN:VEVENT
UID:sabre-vobject-2904aadb-2136-4b6b-b9d3-91fb38859eee
DTSTAMP:20260425T170506Z
SUMMARY:Water Aerobics
DESCRIPTION:This dynamic class offers a full-body workout with varied exerc
 ises in shallow and deep water\, utilizing equipment and upbeat music to b
 enefit both swimmers and non-swimmers of all fitness levels.\n
X-ALT-DESC:FMTTYPE=text/html:<!DOCTYPE HTML PUBLIC "-//W3C//DTD HTML 3.2//E
 N"><HTML><p>This dynamic class offers a full-body workout with varied exer
 cises in shallow and deep water\, utilizing equipment and upbeat music to 
 benefit both swimmers and non-swimmers of all fitness levels.</p>\n</HTML>
CREATED;TZID=America/Chicago:20251105T142803
URL;VALUE=URI:https://campbell.armymwr.com/calendar/event
DTSTART;TZID=America/Chicago:20251212T110000
DTEND;TZID=America/Chicago:20251212T113000
SEQUENCE:4
END:VEVENT
END:VCALENDAR
