BEGIN:VCALENDAR
VERSION:2.0
PRODID:-//Sabre//Sabre VObject 4.5.8//EN
CALSCALE:GREGORIAN
BEGIN:VEVENT
UID:sabre-vobject-b1602c8f-fe14-427a-949f-0b85ba2d2e17
DTSTAMP:20260423T105751Z
SUMMARY:SFA Equipment Orientation
DESCRIPTION:This equipment orientation empowers patrons of all fitness leve
 ls to safely and effectively utilize selectorized gym equipment\, expandin
 g their workout knowledge and confidence.\n
X-ALT-DESC:FMTTYPE=text/html:<!DOCTYPE HTML PUBLIC "-//W3C//DTD HTML 3.2//E
 N"><HTML><p>This equipment orientation empowers patrons of all fitness lev
 els to safely and effectively utilize selectorized gym equipment\, expandi
 ng their workout knowledge and confidence.</p>\n</HTML>
CREATED;TZID=America/Chicago:20260129T080114
URL;VALUE=URI:https://campbell.armymwr.com/calendar/event
DTSTART;TZID=America/Chicago:20260205T090000
DTEND;TZID=America/Chicago:20260205T100000
SEQUENCE:0
END:VEVENT
BEGIN:VEVENT
UID:sabre-vobject-f22e24ee-fbed-42fa-9a64-9c6d59240313
DTSTAMP:20260423T105751Z
SUMMARY:SFA Equipment Orientation
DESCRIPTION:This equipment orientation empowers patrons of all fitness leve
 ls to safely and effectively utilize selectorized gym equipment\, expandin
 g their workout knowledge and confidence.\n
X-ALT-DESC:FMTTYPE=text/html:<!DOCTYPE HTML PUBLIC "-//W3C//DTD HTML 3.2//E
 N"><HTML><p>This equipment orientation empowers patrons of all fitness lev
 els to safely and effectively utilize selectorized gym equipment\, expandi
 ng their workout knowledge and confidence.</p>\n</HTML>
CREATED;TZID=America/Chicago:20260129T080114
URL;VALUE=URI:https://campbell.armymwr.com/calendar/event
DTSTART;TZID=America/Chicago:20260205T140000
DTEND;TZID=America/Chicago:20260205T150000
SEQUENCE:1
END:VEVENT
END:VCALENDAR
