BEGIN:VCALENDAR
VERSION:2.0
PRODID:-//Sabre//Sabre VObject 4.5.8//EN
CALSCALE:GREGORIAN
BEGIN:VEVENT
UID:sabre-vobject-dcf230ae-f7ef-44b6-a0cf-892374b65b03
DTSTAMP:20260424T145003Z
SUMMARY:The Gauntlet Competition 2026
DESCRIPTION:Ready to test your limits? Join the Shaw PFC Gauntlet Competiti
 on. Prove your strength\, endurance\, and mental grit in five tough events
 .\n
X-ALT-DESC:FMTTYPE=text/html:<!DOCTYPE HTML PUBLIC "-//W3C//DTD HTML 3.2//E
 N"><HTML><p>Ready to test your limits? Join the Shaw PFC Gauntlet Competit
 ion. Prove your strength\, endurance\, and mental grit in five tough event
 s.</p>\n</HTML>
CREATED;TZID=America/Chicago:20260413T112331
URL;VALUE=URI:https://campbell.armymwr.com/calendar/event
DTSTART;TZID=America/Chicago:20260612T060000
DTEND;TZID=America/Chicago:20260612T083000
SEQUENCE:0
END:VEVENT
END:VCALENDAR
