BEGIN:VCALENDAR
VERSION:2.0
PRODID:-//Sabre//Sabre VObject 4.5.8//EN
CALSCALE:GREGORIAN
BEGIN:VEVENT
UID:sabre-vobject-61c6a0c8-3b35-428a-9e68-e44212c8b8f3
DTSTAMP:20260425T145736Z
SUMMARY:Pajama Run 5K
DESCRIPTION:Roll out of bed\, keep those festive pajamas on\, and join FMWR
  Sports\, Fitness and Aquatics for the coziest 5K of the year!\n
X-ALT-DESC:FMTTYPE=text/html:<!DOCTYPE HTML PUBLIC "-//W3C//DTD HTML 3.2//E
 N"><HTML><p>Roll out of bed\, keep those festive pajamas on\, and join FMW
 R Sports\, Fitness and Aquatics for the coziest 5K of the year!</p>\n</HTM
 L>
CREATED;TZID=America/Chicago:20260421T100255
URL;VALUE=URI:https://campbell.armymwr.com/calendar/event
DTSTART;TZID=America/Chicago:20261205T090000
DTEND;TZID=America/Chicago:20261205T120000
SEQUENCE:0
END:VEVENT
END:VCALENDAR
