BEGIN:VCALENDAR
VERSION:2.0
PRODID:-//Sabre//Sabre VObject 4.5.8//EN
CALSCALE:GREGORIAN
BEGIN:VEVENT
UID:sabre-vobject-ca839dbe-cfb8-4c74-8aff-cdf051d69228
DTSTAMP:20260422T080846Z
SUMMARY:Mommy & Me Father's Day Crafts
DESCRIPTION:Make Dad a Great Father&#39\;s Day Gift\n
X-ALT-DESC:FMTTYPE=text/html:<!DOCTYPE HTML PUBLIC "-//W3C//DTD HTML 3.2//E
 N"><HTML><p>Make Dad a Great Father&#39\;s Day Gift</p>\n</HTML>
CREATED;TZID=America/Chicago:20180509T150149
URL;VALUE=URI:https://campbell.armymwr.com/calendar/event
DTSTART;TZID=America/Chicago:20180602T100000
DTEND;TZID=America/Chicago:20180602T140000
SEQUENCE:0
END:VEVENT
END:VCALENDAR
