BEGIN:VCALENDAR
VERSION:2.0
PRODID:-//Sabre//Sabre VObject 4.5.8//EN
CALSCALE:GREGORIAN
BEGIN:VEVENT
UID:sabre-vobject-fa0ffbfb-0c54-44ee-91cc-cbee092ecac7
DTSTAMP:20260420T121345Z
SUMMARY:Titans 2018 Season Pass One Day Sale
DESCRIPTION:TN Titans Season Passes in the Eagle Zone!\n
X-ALT-DESC:FMTTYPE=text/html:<!DOCTYPE HTML PUBLIC "-//W3C//DTD HTML 3.2//E
 N"><HTML><p>TN Titans Season Passes in the Eagle Zone!</p>\n</HTML>
CREATED;TZID=America/Chicago:20180709T151542
URL;VALUE=URI:https://campbell.armymwr.com/calendar/event
DTSTART;TZID=America/Chicago:20180802T100000
DTEND;TZID=America/Chicago:20180802T170000
SEQUENCE:0
END:VEVENT
END:VCALENDAR
