BEGIN:VCALENDAR
VERSION:2.0
PRODID:-//Sabre//Sabre VObject 4.5.8//EN
CALSCALE:GREGORIAN
BEGIN:VEVENT
UID:sabre-vobject-559c623c-76f0-45cb-9599-7949c75fdada
DTSTAMP:20260426T014457Z
SUMMARY:Arts & Crafts Stained Glass Class
DESCRIPTION:Arts &amp\; Crafts Stained Glass Class\n\n\n
X-ALT-DESC:FMTTYPE=text/html:<!DOCTYPE HTML PUBLIC "-//W3C//DTD HTML 3.2//E
 N"><HTML><p><b style="mso-bidi-font-weight:normal"><span arial="" style="f
 ont-size:11.0pt\;line-height:107%\;font-family:">Arts &amp\; Crafts Staine
 d Glass Class<br style="mso-special-character:line-break" />\n<!--[if !sup
 portLineBreakNewLine]--><br style="mso-special-character:line-break" />\n<
 !--[endif]--></span></b></p>\n</HTML>
CREATED;TZID=America/Chicago:20180129T111310
URL;VALUE=URI:https://campbell.armymwr.com/calendar/event
DTSTART;TZID=America/Chicago:20180207T170000
DTEND;TZID=America/Chicago:20180207T193000
SEQUENCE:0
END:VEVENT
BEGIN:VEVENT
UID:sabre-vobject-8229ca18-39d7-48c4-b902-b7a403cb0698
DTSTAMP:20260426T014457Z
SUMMARY:Arts & Crafts Stained Glass Class
DESCRIPTION:Arts &amp\; Crafts Stained Glass Class\n\n\n
X-ALT-DESC:FMTTYPE=text/html:<!DOCTYPE HTML PUBLIC "-//W3C//DTD HTML 3.2//E
 N"><HTML><p><b style="mso-bidi-font-weight:normal"><span arial="" style="f
 ont-size:11.0pt\;line-height:107%\;font-family:">Arts &amp\; Crafts Staine
 d Glass Class<br style="mso-special-character:line-break" />\n<!--[if !sup
 portLineBreakNewLine]--><br style="mso-special-character:line-break" />\n<
 !--[endif]--></span></b></p>\n</HTML>
CREATED;TZID=America/Chicago:20180129T111310
URL;VALUE=URI:https://campbell.armymwr.com/calendar/event
DTSTART;TZID=America/Chicago:20180124T170000
DTEND;TZID=America/Chicago:20180124T193000
SEQUENCE:1
END:VEVENT
BEGIN:VEVENT
UID:sabre-vobject-331887c7-0398-4d55-99ac-33b9c92eb281
DTSTAMP:20260426T014457Z
SUMMARY:Arts & Crafts Stained Glass Class
DESCRIPTION:Arts &amp\; Crafts Stained Glass Class\n\n\n
X-ALT-DESC:FMTTYPE=text/html:<!DOCTYPE HTML PUBLIC "-//W3C//DTD HTML 3.2//E
 N"><HTML><p><b style="mso-bidi-font-weight:normal"><span arial="" style="f
 ont-size:11.0pt\;line-height:107%\;font-family:">Arts &amp\; Crafts Staine
 d Glass Class<br style="mso-special-character:line-break" />\n<!--[if !sup
 portLineBreakNewLine]--><br style="mso-special-character:line-break" />\n<
 !--[endif]--></span></b></p>\n</HTML>
CREATED;TZID=America/Chicago:20180129T111310
URL;VALUE=URI:https://campbell.armymwr.com/calendar/event
DTSTART;TZID=America/Chicago:20180330T100000
DTEND;TZID=America/Chicago:20180330T123000
SEQUENCE:2
END:VEVENT
BEGIN:VEVENT
UID:sabre-vobject-15c8ccc3-2248-4be3-a6b5-c4406be90142
DTSTAMP:20260426T014457Z
SUMMARY:Arts & Crafts Stained Glass Class
DESCRIPTION:Arts &amp\; Crafts Stained Glass Class\n\n\n
X-ALT-DESC:FMTTYPE=text/html:<!DOCTYPE HTML PUBLIC "-//W3C//DTD HTML 3.2//E
 N"><HTML><p><b style="mso-bidi-font-weight:normal"><span arial="" style="f
 ont-size:11.0pt\;line-height:107%\;font-family:">Arts &amp\; Crafts Staine
 d Glass Class<br style="mso-special-character:line-break" />\n<!--[if !sup
 portLineBreakNewLine]--><br style="mso-special-character:line-break" />\n<
 !--[endif]--></span></b></p>\n</HTML>
CREATED;TZID=America/Chicago:20180129T111310
URL;VALUE=URI:https://campbell.armymwr.com/calendar/event
DTSTART;TZID=America/Chicago:20180216T100000
DTEND;TZID=America/Chicago:20180216T123000
SEQUENCE:3
END:VEVENT
END:VCALENDAR
