BEGIN:VCALENDAR
VERSION:2.0
PRODID:-//Sabre//Sabre VObject 4.5.8//EN
CALSCALE:GREGORIAN
BEGIN:VEVENT
UID:sabre-vobject-766edc5c-9cae-4879-9a07-d6daeefe151a
DTSTAMP:20260423T051202Z
SUMMARY:Watch UFC #224 at Warrior Zone - Free Admission
DESCRIPTION:Watch UFC #224 at Warrior Zone\nAmanda &quot\;The Lioness&quot\
 ; Nunes vs Raquel &quot\;Rocky&quot\; Pennington\n
X-ALT-DESC:FMTTYPE=text/html:<!DOCTYPE HTML PUBLIC "-//W3C//DTD HTML 3.2//E
 N"><HTML><p>Watch UFC #224 at Warrior Zone<br />\nAmanda &quot\;The Liones
 s&quot\; Nunes vs Raquel &quot\;Rocky&quot\; Pennington</p>\n</HTML>
CREATED;TZID=America/Chicago:20180418T125213
URL;VALUE=URI:https://campbell.armymwr.com/calendar/event
DTSTART;TZID=America/Chicago:20180512T170000
DTEND;TZID=America/Chicago:20180512T000000
SEQUENCE:0
END:VEVENT
END:VCALENDAR
