BEGIN:VCALENDAR
VERSION:2.0
PRODID:-//Sabre//Sabre VObject 4.5.8//EN
CALSCALE:GREGORIAN
BEGIN:VEVENT
UID:sabre-vobject-36822f50-1b0f-4c3c-b6e4-2ddc74d1e026
DTSTAMP:20260422T032712Z
SUMMARY:BOSS Intro to SCUBA Diving Trip
DESCRIPTION:Try something new this year - learn how to breathe underwater!\
 n
X-ALT-DESC:FMTTYPE=text/html:<!DOCTYPE HTML PUBLIC "-//W3C//DTD HTML 3.2//E
 N"><HTML><p>Try something new this year - learn how to breathe underwater!
 </p>\n</HTML>
CREATED;TZID=America/Chicago:20180205T133741
URL;VALUE=URI:https://campbell.armymwr.com/calendar/event
DTSTART;TZID=America/Chicago:20180609T093000
DTEND;TZID=America/Chicago:20180609T103000
SEQUENCE:0
END:VEVENT
END:VCALENDAR
