BEGIN:VCALENDAR
VERSION:2.0
PRODID:-//Sabre//Sabre VObject 4.5.8//EN
CALSCALE:GREGORIAN
BEGIN:VEVENT
UID:sabre-vobject-51eb5acc-9f55-4e30-9625-066c2b64baf5
DTSTAMP:20260424T233244Z
SUMMARY:Easter Eggstravaganza
DESCRIPTION:Egg Hunts\, Photo Opportunities with the Easter Bunny\, Face Pa
 inting\, DJ and Inflatables.\n
X-ALT-DESC:FMTTYPE=text/html:<!DOCTYPE HTML PUBLIC "-//W3C//DTD HTML 3.2//E
 N"><HTML><p>Egg Hunts\, Photo Opportunities with the Easter Bunny\, Face P
 ainting\, DJ and Inflatables.</p>\n</HTML>
CREATED;TZID=America/Chicago:20180327T140644
URL;VALUE=URI:https://campbell.armymwr.com/calendar/event
DTSTART;TZID=America/Chicago:20180331T100000
DTEND;TZID=America/Chicago:20180331T140000
SEQUENCE:0
END:VEVENT
END:VCALENDAR
