BEGIN:VCALENDAR
VERSION:2.0
PRODID:-//Sabre//Sabre VObject 4.5.8//EN
CALSCALE:GREGORIAN
BEGIN:VEVENT
UID:sabre-vobject-68b8da9a-f527-4c51-8214-dff185e1bceb
DTSTAMP:20260424T175943Z
SUMMARY:Watch Showtime Boxing at Warrior Zone
DESCRIPTION:Watch Showtime Boxing at Warrior Zone\nAnthony Joshua vs Joseph
  Parker\n
X-ALT-DESC:FMTTYPE=text/html:<!DOCTYPE HTML PUBLIC "-//W3C//DTD HTML 3.2//E
 N"><HTML><p>Watch Showtime Boxing at Warrior Zone<br />\nAnthony Joshua vs
  Joseph Parker</p>\n</HTML>
CREATED;TZID=America/Chicago:20180321T110033
URL;VALUE=URI:https://campbell.armymwr.com/calendar/event
DTSTART;TZID=America/Chicago:20180331T160000
DTEND;TZID=America/Chicago:20180331T235500
SEQUENCE:0
END:VEVENT
END:VCALENDAR
