BEGIN:VCALENDAR
VERSION:2.0
PRODID:-//Sabre//Sabre VObject 4.5.8//EN
CALSCALE:GREGORIAN
BEGIN:VEVENT
UID:sabre-vobject-d344bc08-72a5-4ffb-98d3-f13d044f9bac
DTSTAMP:20260423T135107Z
SUMMARY:Month of the Military Child Celebration
DESCRIPTION:MOMC Celebration - a time to honor military youth!\n
X-ALT-DESC:FMTTYPE=text/html:<!DOCTYPE HTML PUBLIC "-//W3C//DTD HTML 3.2//E
 N"><HTML><p>MOMC Celebration - a time to honor military youth!</p>\n</HTML
 >
CREATED;TZID=America/Chicago:20180410T092706
URL;VALUE=URI:https://campbell.armymwr.com/calendar/event
DTSTART;TZID=America/Chicago:20180428T100000
DTEND;TZID=America/Chicago:20180428T140000
SEQUENCE:0
END:VEVENT
END:VCALENDAR
