BEGIN:VCALENDAR
VERSION:2.0
PRODID:-//Sabre//Sabre VObject 4.5.8//EN
CALSCALE:GREGORIAN
BEGIN:VEVENT
UID:sabre-vobject-15f65cd0-a019-4b2c-a2d2-36abf4f3f9ac
DTSTAMP:20260424T145005Z
SUMMARY:Easter Brunch at Smokehaus Restaurant
DESCRIPTION:A delicious Easter Brunch for you and your friends and Family t
 o enjoy!\n
X-ALT-DESC:FMTTYPE=text/html:<!DOCTYPE HTML PUBLIC "-//W3C//DTD HTML 3.2//E
 N"><HTML><p>A delicious Easter Brunch for you and your friends and Family 
 to enjoy!</p>\n</HTML>
CREATED;TZID=America/Chicago:20180315T150005
URL;VALUE=URI:https://campbell.armymwr.com/calendar/event
DTSTART;TZID=America/Chicago:20180401T100000
DTEND;TZID=America/Chicago:20180401T140000
SEQUENCE:0
END:VEVENT
END:VCALENDAR
