BEGIN:VCALENDAR
VERSION:2.0
PRODID:-//Sabre//Sabre VObject 4.5.8//EN
CALSCALE:GREGORIAN
BEGIN:VEVENT
UID:sabre-vobject-5087dad2-a37d-42e4-85af-c3c3f3f6fddb
DTSTAMP:20260423T053157Z
SUMMARY:Mother's Day Brunch at Smokehaus Restaurant
DESCRIPTION:Keep your Mom out of the kitchen on Mother&#39\;s Day!\n
X-ALT-DESC:FMTTYPE=text/html:<!DOCTYPE HTML PUBLIC "-//W3C//DTD HTML 3.2//E
 N"><HTML><p>Keep your Mom out of the kitchen on Mother&#39\;s Day!</p>\n</
 HTML>
CREATED;TZID=America/Chicago:20180404T071018
URL;VALUE=URI:https://campbell.armymwr.com/calendar/event
DTSTART;TZID=America/Chicago:20180513T100000
DTEND;TZID=America/Chicago:20180513T140000
SEQUENCE:0
END:VEVENT
END:VCALENDAR
