BEGIN:VCALENDAR
VERSION:2.0
PRODID:-//Sabre//Sabre VObject 4.5.8//EN
CALSCALE:GREGORIAN
BEGIN:VEVENT
UID:sabre-vobject-7ce93ca6-c15d-4185-bac5-b56e87bc10dc
DTSTAMP:20260423T223143Z
SUMMARY:National Fitness Competition for Youth Ages 6 to 18
DESCRIPTION:Commit!&nbsp\; Be Fit!\n
X-ALT-DESC:FMTTYPE=text/html:<!DOCTYPE HTML PUBLIC "-//W3C//DTD HTML 3.2//E
 N"><HTML><p>Commit!&nbsp\; Be Fit!</p>\n</HTML>
CREATED;TZID=America/Chicago:20180314T105623
URL;VALUE=URI:https://campbell.armymwr.com/calendar/event
DTSTART;TZID=America/Chicago:20180421T140000
DTEND;TZID=America/Chicago:20180421T170000
SEQUENCE:0
END:VEVENT
END:VCALENDAR
