BEGIN:VCALENDAR
VERSION:2.0
PRODID:-//Sabre//Sabre VObject 4.5.8//EN
CALSCALE:GREGORIAN
BEGIN:VEVENT
UID:sabre-vobject-26913d9e-736b-4456-aec5-e9c833007c31
DTSTAMP:20260421T074130Z
SUMMARY:Watch UFC #226 at Warrior Zone - Free Admission
DESCRIPTION:Watch UFC #226 at Warrior Zone&nbsp\;&nbsp\;&nbsp\;\nMiocic vs 
 Cormier in a Heavyweight Title Fight\n&nbsp\;\n
X-ALT-DESC:FMTTYPE=text/html:<!DOCTYPE HTML PUBLIC "-//W3C//DTD HTML 3.2//E
 N"><HTML><p>Watch UFC #226 at Warrior Zone&nbsp\;&nbsp\;&nbsp\;<br />\nMio
 cic vs Cormier in a Heavyweight Title Fight<br />\n&nbsp\;</p>\n</HTML>
CREATED;TZID=America/Chicago:20180416T131253
URL;VALUE=URI:https://campbell.armymwr.com/calendar/event
DTSTART;TZID=America/Chicago:20180707T170000
DTEND;TZID=America/Chicago:20180707T000000
SEQUENCE:0
END:VEVENT
END:VCALENDAR
