BEGIN:VCALENDAR
VERSION:2.0
PRODID:-//Sabre//Sabre VObject 4.5.8//EN
CALSCALE:GREGORIAN
BEGIN:VEVENT
UID:sabre-vobject-8545835a-b618-4b36-b133-94905bdbeadb
DTSTAMP:20260423T235623Z
SUMMARY:BOSS Atlanta Trip
DESCRIPTION:Enjoy a weekend get-away to Atlanta!\n
X-ALT-DESC:FMTTYPE=text/html:<!DOCTYPE HTML PUBLIC "-//W3C//DTD HTML 3.2//E
 N"><HTML><p>Enjoy a weekend get-away to Atlanta!</p>\n</HTML>
CREATED;TZID=America/Chicago:20180316T112858
URL;VALUE=URI:https://campbell.armymwr.com/calendar/event
DTSTART;TZID=America/Chicago:20180427T090000
DTEND;TZID=America/Chicago:20180429T100000
SEQUENCE:0
END:VEVENT
END:VCALENDAR
