BEGIN:VCALENDAR
VERSION:2.0
PRODID:-//Sabre//Sabre VObject 4.5.8//EN
CALSCALE:GREGORIAN
BEGIN:VEVENT
UID:sabre-vobject-50a8735e-b553-4c69-8734-9d30b8a93bbf
DTSTAMP:20260424T144927Z
SUMMARY:ACS New Parent Support Program Safety Day
DESCRIPTION:Free Car Seat Inspections\, Inflatables\, Information booths an
 d more!\n
X-ALT-DESC:FMTTYPE=text/html:<!DOCTYPE HTML PUBLIC "-//W3C//DTD HTML 3.2//E
 N"><HTML><p>Free Car Seat Inspections\, Inflatables\, Information booths a
 nd more!</p>\n</HTML>
CREATED;TZID=America/Chicago:20180320T135140
URL;VALUE=URI:https://campbell.armymwr.com/calendar/event
DTSTART;TZID=America/Chicago:20180417T100000
DTEND;TZID=America/Chicago:20180417T130000
SEQUENCE:0
END:VEVENT
END:VCALENDAR
