BEGIN:VCALENDAR
VERSION:2.0
PRODID:-//Sabre//Sabre VObject 4.5.8//EN
CALSCALE:GREGORIAN
BEGIN:VEVENT
UID:sabre-vobject-0fa3dc1d-ad84-459d-ba37-b5bfb64933f5
DTSTAMP:20260422T112146Z
SUMMARY:Teen Anime Club
DESCRIPTION:For ages 13-17.\nThe 4th Sunday of each month.\n
X-ALT-DESC:FMTTYPE=text/html:<!DOCTYPE HTML PUBLIC "-//W3C//DTD HTML 3.2//E
 N"><HTML><p>For ages 13-17.<br />\nThe 4th Sunday of each month.</p>\n</HT
 ML>
CREATED;TZID=America/Chicago:20180501T100036
URL;VALUE=URI:https://campbell.armymwr.com/calendar/event
DTSTART;TZID=America/Chicago:20180527T133000
DTEND;TZID=America/Chicago:20180527T143000
SEQUENCE:0
END:VEVENT
END:VCALENDAR
