BEGIN:VCALENDAR
VERSION:2.0
PRODID:-//Sabre//Sabre VObject 4.5.8//EN
CALSCALE:GREGORIAN
BEGIN:VEVENT
UID:sabre-vobject-d4af0664-6a37-41db-b10a-38cac0e6ebf4
DTSTAMP:20260422T125853Z
SUMMARY:Adult Anime Club
DESCRIPTION:For ages 18+.\nThe 4th Sunday of each month.\n
X-ALT-DESC:FMTTYPE=text/html:<!DOCTYPE HTML PUBLIC "-//W3C//DTD HTML 3.2//E
 N"><HTML><p>For ages 18+.<br />\nThe 4th Sunday of each month.</p>\n</HTML
 >
CREATED;TZID=America/Chicago:20180501T100118
URL;VALUE=URI:https://campbell.armymwr.com/calendar/event
DTSTART;TZID=America/Chicago:20180527T150000
DTEND;TZID=America/Chicago:20180527T160000
SEQUENCE:0
END:VEVENT
END:VCALENDAR
