BEGIN:VCALENDAR
VERSION:2.0
PRODID:-//Sabre//Sabre VObject 4.5.8//EN
CALSCALE:GREGORIAN
BEGIN:VEVENT
UID:sabre-vobject-dafa6c73-c3fe-43ff-a806-a9652f1b0c79
DTSTAMP:20260422T015105Z
SUMMARY:Arts and Crafts Adult Mixed Media Canvas
DESCRIPTION:Arts and Crafts Adult Mixed Media Canvas\n\n\n
X-ALT-DESC:FMTTYPE=text/html:<!DOCTYPE HTML PUBLIC "-//W3C//DTD HTML 3.2//E
 N"><HTML><p><b style="mso-bidi-font-weight:normal"><span arial="" style="f
 ont-size:12.0pt\;line-height:107%\;font-family:">Arts and Crafts Adult Mix
 ed Media Canvas<br style="mso-special-character:line-break" />\n<!--[if !s
 upportLineBreakNewLine]--><br style="mso-special-character:line-break" />\
 n<!--[endif]--></span></b></p>\n</HTML>
CREATED;TZID=America/Chicago:20180508T120147
URL;VALUE=URI:https://campbell.armymwr.com/calendar/event
DTSTART;TZID=America/Chicago:20180620T173000
DTEND;TZID=America/Chicago:20180620T193000
SEQUENCE:0
END:VEVENT
END:VCALENDAR
