BEGIN:VCALENDAR
VERSION:2.0
PRODID:-//Sabre//Sabre VObject 4.5.8//EN
CALSCALE:GREGORIAN
BEGIN:VEVENT
UID:sabre-vobject-bfaaf8a8-ca27-4800-9b2c-9517411db832
DTSTAMP:20260422T080845Z
SUMMARY:Lunch Break 1\,000 Pound Competition
DESCRIPTION:Can you join the 1\,000lb Club?\n
X-ALT-DESC:FMTTYPE=text/html:<!DOCTYPE HTML PUBLIC "-//W3C//DTD HTML 3.2//E
 N"><HTML><p>Can you join the 1\,000lb Club?</p>\n</HTML>
CREATED;TZID=America/Chicago:20180430T141658
URL;VALUE=URI:https://campbell.armymwr.com/calendar/event
DTSTART;TZID=America/Chicago:20180607T113000
DTEND;TZID=America/Chicago:20180607T130000
SEQUENCE:0
END:VEVENT
END:VCALENDAR
