BEGIN:VCALENDAR
VERSION:2.0
PRODID:-//Sabre//Sabre VObject 4.5.8//EN
CALSCALE:GREGORIAN
BEGIN:VEVENT
UID:sabre-vobject-fc860c85-a343-4b9b-b1bb-7317c4a81866
DTSTAMP:20260422T094251Z
SUMMARY:Lunch Break Pull Up Competition
DESCRIPTION:How may pull ups can you do in 2 minutes?\n
X-ALT-DESC:FMTTYPE=text/html:<!DOCTYPE HTML PUBLIC "-//W3C//DTD HTML 3.2//E
 N"><HTML><p>How may pull ups can you do in 2 minutes?</p>\n</HTML>
CREATED;TZID=America/Chicago:20180430T142617
URL;VALUE=URI:https://campbell.armymwr.com/calendar/event
DTSTART;TZID=America/Chicago:20180608T113000
DTEND;TZID=America/Chicago:20180608T130000
SEQUENCE:0
END:VEVENT
END:VCALENDAR
