BEGIN:VCALENDAR
VERSION:2.0
PRODID:-//Sabre//Sabre VObject 4.5.8//EN
CALSCALE:GREGORIAN
BEGIN:VEVENT
UID:sabre-vobject-aa895942-790e-438c-aee5-4f4122e07964
DTSTAMP:20260422T080848Z
SUMMARY:Carlos Mencia and Guests Summer Comedy Tour
DESCRIPTION:High Energy Comedy Show\n
X-ALT-DESC:FMTTYPE=text/html:<!DOCTYPE HTML PUBLIC "-//W3C//DTD HTML 3.2//E
 N"><HTML><p>High Energy Comedy Show</p>\n</HTML>
CREATED;TZID=America/Chicago:20180523T111829
URL;VALUE=URI:https://campbell.armymwr.com/calendar/event
DTSTART;TZID=America/Chicago:20180608T190000
DTEND;TZID=America/Chicago:20180608T220000
SEQUENCE:0
END:VEVENT
END:VCALENDAR
