BEGIN:VCALENDAR
VERSION:2.0
PRODID:-//Sabre//Sabre VObject 4.5.8//EN
CALSCALE:GREGORIAN
BEGIN:VEVENT
UID:sabre-vobject-e5340b10-d2f1-4f1d-94dc-3b43e4ecfcb1
DTSTAMP:20260421T092136Z
SUMMARY:Yin Yoga (Group Exercise Class)
DESCRIPTION:Relax and center yourself while you exercise your body.\n
X-ALT-DESC:FMTTYPE=text/html:<!DOCTYPE HTML PUBLIC "-//W3C//DTD HTML 3.2//E
 N"><HTML><p>Relax and center yourself while you exercise your body.</p>\n<
 /HTML>
CREATED;TZID=America/Chicago:20180716T124404
URL;VALUE=URI:https://campbell.armymwr.com/calendar/event
DTSTART;TZID=America/Chicago:20180702T180000
DTEND;TZID=America/Chicago:20180702T190000
SEQUENCE:0
END:VEVENT
END:VCALENDAR
