BEGIN:VCALENDAR
VERSION:2.0
PRODID:-//Sabre//Sabre VObject 4.5.8//EN
CALSCALE:GREGORIAN
BEGIN:VEVENT
UID:sabre-vobject-fb1387e9-dfc1-43ef-a1d8-301c17f61459
DTSTAMP:20260420T092958Z
SUMMARY:Arts & Crafts - Clay Monster
DESCRIPTION:Kids Clay Monster Class\nOpen to age 8 and older.&nbsp\;\nChild
 ren age 12 and under must be accompanied by an adult.\n\n
X-ALT-DESC:FMTTYPE=text/html:<!DOCTYPE HTML PUBLIC "-//W3C//DTD HTML 3.2//E
 N"><HTML><p><b style="mso-bidi-font-weight:normal"><span arial="" style="f
 ont-size:11.0pt\;line-height:107%\;font-family:">Kids Clay Monster Class<b
 r style="mso-special-character:line-break" />\n<!--[if !supportLineBreakNe
 wLine]--></span></b>Open to age 8 and older.&nbsp\;<br />\nChildren age 12
  and under must be accompanied by an adult.<br style="mso-special-characte
 r:line-break" />\n<b style="mso-bidi-font-weight:normal"><span arial="" st
 yle="font-size:11.0pt\;line-height:107%\;font-family:"><!--[endif]--></spa
 n></b></p>\n</HTML>
CREATED;TZID=America/Chicago:20210204T091050
URL;VALUE=URI:https://campbell.armymwr.com/calendar/event
DTSTART;TZID=America/Chicago:20210224T163000
DTEND;TZID=America/Chicago:20210224T173000
SEQUENCE:0
END:VEVENT
END:VCALENDAR
