BEGIN:VCALENDAR
VERSION:2.0
PRODID:-//Sabre//Sabre VObject 4.5.8//EN
CALSCALE:GREGORIAN
BEGIN:VEVENT
UID:sabre-vobject-0786c7f1-ac09-40fc-80e3-7b287259b8d9
DTSTAMP:20260420T070820Z
SUMMARY:Youth Instructional Programs Painting Class
DESCRIPTION:Painting Class\n
X-ALT-DESC:FMTTYPE=text/html:<!DOCTYPE HTML PUBLIC "-//W3C//DTD HTML 3.2//E
 N"><HTML><p>Painting Class</p>\n</HTML>
CREATED;TZID=America/Chicago:20210106T103411
URL;VALUE=URI:https://campbell.armymwr.com/calendar/event
DTSTART;TZID=America/Chicago:20210119T173000
DTEND;TZID=America/Chicago:20210119T183000
SEQUENCE:0
END:VEVENT
END:VCALENDAR
