BEGIN:VCALENDAR
VERSION:2.0
PRODID:-//Sabre//Sabre VObject 4.5.8//EN
CALSCALE:GREGORIAN
BEGIN:VEVENT
UID:sabre-vobject-1b2bfaba-162f-4cd7-88cd-92c539a77970
DTSTAMP:20260420T002620Z
SUMMARY:Youth Instructional Programs Craft Class
DESCRIPTION:Hanging Heart Shaped Craft Project\n
X-ALT-DESC:FMTTYPE=text/html:<!DOCTYPE HTML PUBLIC "-//W3C//DTD HTML 3.2//E
 N"><HTML><p>Hanging Heart Shaped Craft Project</p>\n</HTML>
CREATED;TZID=America/Chicago:20210111T131146
URL;VALUE=URI:https://campbell.armymwr.com/calendar/event
DTSTART;TZID=America/Chicago:20210212T173000
DTEND;TZID=America/Chicago:20210212T183000
SEQUENCE:0
END:VEVENT
END:VCALENDAR
