BEGIN:VCALENDAR
VERSION:2.0
PRODID:-//Sabre//Sabre VObject 4.5.8//EN
CALSCALE:GREGORIAN
BEGIN:VEVENT
UID:sabre-vobject-17b52ede-fd16-4208-bc5c-07e0ea5d70c5
DTSTAMP:20260420T030007Z
SUMMARY:Arts & Crafts Kids Canvas Painting
DESCRIPTION:Kids Canvas Painting\n
X-ALT-DESC:FMTTYPE=text/html:<!DOCTYPE HTML PUBLIC "-//W3C//DTD HTML 3.2//E
 N"><HTML><p>Kids Canvas Painting</p>\n</HTML>
CREATED;TZID=America/Chicago:20210121T094512
URL;VALUE=URI:https://campbell.armymwr.com/calendar/event
DTSTART;TZID=America/Chicago:20210123T130000
DTEND;TZID=America/Chicago:20210123T150000
SEQUENCE:0
END:VEVENT
END:VCALENDAR
