BEGIN:VCALENDAR
VERSION:2.0
PRODID:-//Sabre//Sabre VObject 4.5.8//EN
CALSCALE:GREGORIAN
BEGIN:VEVENT
UID:sabre-vobject-174e917c-f3cf-487f-8138-37d7359c89e7
DTSTAMP:20260420T110539Z
SUMMARY:Discover Fort Campbell
DESCRIPTION:Today&#39\;s Discover Fort Campbell activity is a hike in the C
 larksville Base area.\n
X-ALT-DESC:FMTTYPE=text/html:<!DOCTYPE HTML PUBLIC "-//W3C//DTD HTML 3.2//E
 N"><HTML><p>Today&#39\;s Discover Fort Campbell activity is a hike in the 
 Clarksville Base area.</p>\n</HTML>
CREATED;TZID=America/Chicago:20210217T161501
URL;VALUE=URI:https://campbell.armymwr.com/calendar/event
DTSTART;TZID=America/Chicago:20210227T110000
DTEND;TZID=America/Chicago:20210227T120000
SEQUENCE:0
END:VEVENT
END:VCALENDAR
