BEGIN:VCALENDAR
VERSION:2.0
PRODID:-//Sabre//Sabre VObject 4.5.8//EN
CALSCALE:GREGORIAN
BEGIN:VEVENT
UID:sabre-vobject-f5da0789-a15b-46fe-bf73-fa4f931495c3
DTSTAMP:20260419T180743Z
SUMMARY:PFC Hours of Operation
DESCRIPTION:PFC Hours of Operation for 22&nbsp\;January 2021\n
X-ALT-DESC:FMTTYPE=text/html:<!DOCTYPE HTML PUBLIC "-//W3C//DTD HTML 3.2//E
 N"><HTML><p>PFC Hours of Operation for 22&nbsp\;January 2021</p>\n</HTML>
CREATED;TZID=America/Chicago:20210120T134603
URL;VALUE=URI:https://campbell.armymwr.com/calendar/event
DTSTART;TZID=America/Chicago:20210122T000000
DTEND;TZID=America/Chicago:20210122T235959
SEQUENCE:0
END:VEVENT
END:VCALENDAR
