BEGIN:VCALENDAR
VERSION:2.0
PRODID:-//Sabre//Sabre VObject 4.5.8//EN
CALSCALE:GREGORIAN
BEGIN:VEVENT
UID:sabre-vobject-5177e694-2bed-4283-8871-cf89aac60a8a
DTSTAMP:20260420T053359Z
SUMMARY:PFC Hours of Operation
DESCRIPTION:PFC Hours of Operation for 30&nbsp\;January 2021\n
X-ALT-DESC:FMTTYPE=text/html:<!DOCTYPE HTML PUBLIC "-//W3C//DTD HTML 3.2//E
 N"><HTML><p>PFC Hours of Operation for 30&nbsp\;January 2021</p>\n</HTML>
CREATED;TZID=America/Chicago:20210120T151815
URL;VALUE=URI:https://campbell.armymwr.com/calendar/event
DTSTART;TZID=America/Chicago:20210130T000000
DTEND;TZID=America/Chicago:20210130T235959
SEQUENCE:0
END:VEVENT
END:VCALENDAR
