BEGIN:VCALENDAR
VERSION:2.0
PRODID:-//Sabre//Sabre VObject 4.5.8//EN
CALSCALE:GREGORIAN
BEGIN:VEVENT
UID:sabre-vobject-18e4b8d6-b59b-4bd5-ac6e-208966ebf35c
DTSTAMP:20260420T030007Z
SUMMARY:Arts & Crafts Kids Canvas Painting
DESCRIPTION:Kids Canvas Painting\n
X-ALT-DESC:FMTTYPE=text/html:<!DOCTYPE HTML PUBLIC "-//W3C//DTD HTML 3.2//E
 N"><HTML><p>Kids Canvas Painting</p>\n</HTML>
CREATED;TZID=America/Chicago:20210121T094536
URL;VALUE=URI:https://campbell.armymwr.com/calendar/event
DTSTART;TZID=America/Chicago:20210127T163000
DTEND;TZID=America/Chicago:20210127T183000
SEQUENCE:0
END:VEVENT
END:VCALENDAR
