BEGIN:VCALENDAR
VERSION:2.0
PRODID:-//Sabre//Sabre VObject 4.5.8//EN
CALSCALE:GREGORIAN
BEGIN:VEVENT
UID:sabre-vobject-5835cd6c-3018-4ce8-8aaa-743e5bce1bc6
DTSTAMP:20260420T085728Z
SUMMARY:Warrior Zone Super Bowl Watch Party
DESCRIPTION:Watch the Big Game on our Big Screens!\n
X-ALT-DESC:FMTTYPE=text/html:<!DOCTYPE HTML PUBLIC "-//W3C//DTD HTML 3.2//E
 N"><HTML><p>Watch the Big Game on our Big Screens!</p>\n</HTML>
CREATED;TZID=America/Chicago:20210125T131844
URL;VALUE=URI:https://campbell.armymwr.com/calendar/event
DTSTART;TZID=America/Chicago:20210207T120000
DTEND;TZID=America/Chicago:20210207T130000
SEQUENCE:0
END:VEVENT
END:VCALENDAR
