BEGIN:VCALENDAR
VERSION:2.0
PRODID:-//Sabre//Sabre VObject 4.5.8//EN
CALSCALE:GREGORIAN
BEGIN:VEVENT
UID:sabre-vobject-9e42b423-3085-44f0-880a-2310c734abf5
DTSTAMP:20260420T110538Z
SUMMARY:Arts & Crafts - Clay Fairy Door
DESCRIPTION:Clay Fairy Door\nOpen to age 8 and older.&nbsp\;\nChildren age 
 12 and under must be accompanied by an adult.\n\n
X-ALT-DESC:FMTTYPE=text/html:<!DOCTYPE HTML PUBLIC "-//W3C//DTD HTML 3.2//E
 N"><HTML><p><b style="mso-bidi-font-weight:normal"><span arial="" style="f
 ont-size:11.0pt\;line-height:107%\;font-family:">Clay Fairy Door<br style=
 "mso-special-character:line-break" />\n<!--[if !supportLineBreakNewLine]--
 ></span></b><span arial="" style="font-size:12.0pt\;font-family:">Open to 
 age 8 and older.&nbsp\;<br />\nChildren age 12 and under must be accompani
 ed by an adult.</span><br style="mso-special-character:line-break" />\n<b 
 style="mso-bidi-font-weight:normal"><span arial="" style="font-size:11.0pt
 \;line-height:107%\;font-family:"><!--[endif]--></span></b></p>\n</HTML>
CREATED;TZID=America/Chicago:20210204T091025
URL;VALUE=URI:https://campbell.armymwr.com/calendar/event
DTSTART;TZID=America/Chicago:20210219T163000
DTEND;TZID=America/Chicago:20210219T173000
SEQUENCE:0
END:VEVENT
END:VCALENDAR
