BEGIN:VCALENDAR
VERSION:2.0
PRODID:-//Sabre//Sabre VObject 4.5.8//EN
CALSCALE:GREGORIAN
BEGIN:VEVENT
UID:sabre-vobject-9324b745-4e88-4f9c-aae8-77a57b1bbfe7
DTSTAMP:20260420T053349Z
SUMMARY:PFC Hours of Operation
DESCRIPTION:PFC Hours of Operation for 06 February&nbsp\;2021\n
X-ALT-DESC:FMTTYPE=text/html:<!DOCTYPE HTML PUBLIC "-//W3C//DTD HTML 3.2//E
 N"><HTML><p>PFC Hours of Operation for 06 February&nbsp\;2021</p>\n</HTML>
CREATED;TZID=America/Chicago:20210129T110718
URL;VALUE=URI:https://campbell.armymwr.com/calendar/event
DTSTART;TZID=America/Chicago:20210206T000000
DTEND;TZID=America/Chicago:20210206T235959
SEQUENCE:0
END:VEVENT
END:VCALENDAR
