BEGIN:VCALENDAR
VERSION:2.0
PRODID:-//Sabre//Sabre VObject 4.5.8//EN
CALSCALE:GREGORIAN
BEGIN:VEVENT
UID:sabre-vobject-5556837c-758b-4331-8cc2-2eda8db94112
DTSTAMP:20260419T193130Z
SUMMARY:"Night in the City" Adult Canvas Painting
DESCRIPTION:Adult Canvas Painting Class\nFor ages 16 and over.\n
X-ALT-DESC:FMTTYPE=text/html:<!DOCTYPE HTML PUBLIC "-//W3C//DTD HTML 3.2//E
 N"><HTML><p>Adult Canvas Painting Class<br />\nFor ages 16 and over.</p>\n
 </HTML>
CREATED;TZID=America/Chicago:20210225T085325
URL;VALUE=URI:https://campbell.armymwr.com/calendar/event
DTSTART;TZID=America/Chicago:20210305T170000
DTEND;TZID=America/Chicago:20210305T190000
SEQUENCE:0
END:VEVENT
END:VCALENDAR
