BEGIN:VCALENDAR
VERSION:2.0
PRODID:-//Sabre//Sabre VObject 4.5.8//EN
CALSCALE:GREGORIAN
BEGIN:VEVENT
UID:sabre-vobject-cf58a5e8-c857-4261-be53-c0440a77bf54
DTSTAMP:20260419T173138Z
SUMMARY:Arts & Crafts - "Almost Spring" Adult Canvas Painting
DESCRIPTION:Open to ages 16 and over.\n
X-ALT-DESC:FMTTYPE=text/html:<!DOCTYPE HTML PUBLIC "-//W3C//DTD HTML 3.2//E
 N"><HTML><p>Open to ages 16 and over.</p>\n</HTML>
CREATED;TZID=America/Chicago:20210204T120300
URL;VALUE=URI:https://campbell.armymwr.com/calendar/event
DTSTART;TZID=America/Chicago:20210312T170000
DTEND;TZID=America/Chicago:20210312T190000
SEQUENCE:0
END:VEVENT
END:VCALENDAR
