BEGIN:VCALENDAR
VERSION:2.0
PRODID:-//Sabre//Sabre VObject 4.5.8//EN
CALSCALE:GREGORIAN
BEGIN:VEVENT
UID:sabre-vobject-71acff3c-1c2b-43d0-a18b-4e5ed608923b
DTSTAMP:20260419T211141Z
SUMMARY:PFC Hours of Operation
DESCRIPTION:PFC Hours of Operation for 26&nbsp\;February&nbsp\;2021\n
X-ALT-DESC:FMTTYPE=text/html:<!DOCTYPE HTML PUBLIC "-//W3C//DTD HTML 3.2//E
 N"><HTML><p>PFC Hours of Operation for 26&nbsp\;February&nbsp\;2021</p>\n<
 /HTML>
CREATED;TZID=America/Chicago:20210211T121823
URL;VALUE=URI:https://campbell.armymwr.com/calendar/event
DTSTART;TZID=America/Chicago:20210226T000000
DTEND;TZID=America/Chicago:20210226T235959
SEQUENCE:0
END:VEVENT
END:VCALENDAR
