BEGIN:VCALENDAR
VERSION:2.0
PRODID:-//Sabre//Sabre VObject 4.5.8//EN
CALSCALE:GREGORIAN
BEGIN:VEVENT
UID:sabre-vobject-d5ac7a13-9b65-42a5-8268-b61ce2f89dc5
DTSTAMP:20260419T190649Z
SUMMARY:PFC Hours of Operation
DESCRIPTION:PFC Hours of Operation for 02 March&nbsp\;2021\n
X-ALT-DESC:FMTTYPE=text/html:<!DOCTYPE HTML PUBLIC "-//W3C//DTD HTML 3.2//E
 N"><HTML><p>PFC Hours of Operation for 02 March&nbsp\;2021</p>\n</HTML>
CREATED;TZID=America/Chicago:20210301T125521
URL;VALUE=URI:https://campbell.armymwr.com/calendar/event
DTSTART;TZID=America/Chicago:20210302T000000
DTEND;TZID=America/Chicago:20210302T235959
SEQUENCE:0
END:VEVENT
END:VCALENDAR
