BEGIN:VCALENDAR
VERSION:2.0
PRODID:-//Sabre//Sabre VObject 4.5.8//EN
CALSCALE:GREGORIAN
BEGIN:VEVENT
UID:sabre-vobject-a8b6dcce-0849-4628-8509-69a85d0c844f
DTSTAMP:20260419T211139Z
SUMMARY:PFC Hours of Operation
DESCRIPTION:PFC Hours of Operation for 04 March&nbsp\;2021\n
X-ALT-DESC:FMTTYPE=text/html:<!DOCTYPE HTML PUBLIC "-//W3C//DTD HTML 3.2//E
 N"><HTML><p>PFC Hours of Operation for 04 March&nbsp\;2021</p>\n</HTML>
CREATED;TZID=America/Chicago:20210301T125003
URL;VALUE=URI:https://campbell.armymwr.com/calendar/event
DTSTART;TZID=America/Chicago:20210304T000000
DTEND;TZID=America/Chicago:20210304T235959
SEQUENCE:0
END:VEVENT
END:VCALENDAR
