BEGIN:VCALENDAR
VERSION:2.0
PRODID:-//Sabre//Sabre VObject 4.5.8//EN
CALSCALE:GREGORIAN
BEGIN:VEVENT
UID:sabre-vobject-8ba3f5cb-c859-4ac3-9221-c803bbb054f9
DTSTAMP:20260419T203442Z
SUMMARY:PFC Hours of Operation
DESCRIPTION:PFC Hours of Operation for 09&nbsp\;March&nbsp\;2021\n
X-ALT-DESC:FMTTYPE=text/html:<!DOCTYPE HTML PUBLIC "-//W3C//DTD HTML 3.2//E
 N"><HTML><p>PFC Hours of Operation for 09&nbsp\;March&nbsp\;2021</p>\n</HT
 ML>
CREATED;TZID=America/Chicago:20210305T133910
URL;VALUE=URI:https://campbell.armymwr.com/calendar/event
DTSTART;TZID=America/Chicago:20210309T000000
DTEND;TZID=America/Chicago:20210309T235959
SEQUENCE:0
END:VEVENT
END:VCALENDAR
