BEGIN:VCALENDAR
VERSION:2.0
PRODID:-//Sabre//Sabre VObject 4.5.8//EN
CALSCALE:GREGORIAN
BEGIN:VEVENT
UID:sabre-vobject-4fa58826-2787-4fe0-864a-4849eb4be06c
DTSTAMP:20260422T153212Z
SUMMARY:Holiday Wonderland: Trees for Troops®
DESCRIPTION:Trees for Troops&reg\; 12pm to 2pm - Jr. Enlisted | 2pm to 4pm 
 - Open to all Active Duty\n
X-ALT-DESC:FMTTYPE=text/html:<!DOCTYPE HTML PUBLIC "-//W3C//DTD HTML 3.2//E
 N"><HTML><p>Trees for Troops&reg\; 12pm to 2pm - Jr. Enlisted | 2pm to 4pm
  - Open to all Active Duty</p>\n</HTML>
CREATED;TZID=America/Chicago:20231204T094839
URL;VALUE=URI:https://campbell.armymwr.com/calendar/event
DTSTART;TZID=America/Chicago:20231202T120000
DTEND;TZID=America/Chicago:20231202T160000
SEQUENCE:0
END:VEVENT
END:VCALENDAR
