BEGIN:VCALENDAR
VERSION:2.0
PRODID:-//Sabre//Sabre VObject 4.5.8//EN
CALSCALE:GREGORIAN
BEGIN:VEVENT
UID:sabre-vobject-d2c7c511-7d5b-4c49-aa4f-a6b992ff078c
DTSTAMP:20260420T085645Z
SUMMARY:Baby & Me Lapsit at the Library
DESCRIPTION:The Baby and Me Lapsit is a program designed for children rangi
 ng in age newborn to 3\,&nbsp\;allowing parents to bond with their baby wh
 ile introducing them to the wonders of reading.\n
X-ALT-DESC:FMTTYPE=text/html:<!DOCTYPE HTML PUBLIC "-//W3C//DTD HTML 3.2//E
 N"><HTML><p>The Baby and Me Lapsit is a program designed for children rang
 ing in age newborn to 3\,&nbsp\;allowing parents to bond with their baby w
 hile introducing them to the wonders of reading.</p>\n</HTML>
CREATED;TZID=America/Chicago:20260219T151921
URL;VALUE=URI:https://campbell.armymwr.com/calendar/event
DTSTART;TZID=America/Chicago:20240306T133000
DTEND;TZID=America/Chicago:20240306T143000
SEQUENCE:0
END:VEVENT
END:VCALENDAR
