BEGIN:VCALENDAR
VERSION:2.0
PRODID:-//Sabre//Sabre VObject 4.5.8//EN
CALSCALE:GREGORIAN
BEGIN:VEVENT
UID:sabre-vobject-9565b252-e174-43b2-9e53-f9384929ff12
DTSTAMP:20260424T174309Z
SUMMARY:Christmas Lunch for Soldiers
DESCRIPTION:Single&nbsp\;and geo-bachelor Soldiers are invited to enjoy a f
 ree Christmas meal at Warrior Zone. Join us for a festive and warm holiday
  gathering and&nbsp\;enjoy a delicious meal and good company.\n
X-ALT-DESC:FMTTYPE=text/html:<!DOCTYPE HTML PUBLIC "-//W3C//DTD HTML 3.2//E
 N"><HTML><p>Single&nbsp\;and geo-bachelor Soldiers are invited to enjoy a 
 free Christmas meal at Warrior Zone. Join us for a festive and warm holida
 y gathering and&nbsp\;enjoy a delicious meal and good company.</p>\n</HTML
 >
CREATED;TZID=America/Chicago:20251114T155408
URL;VALUE=URI:https://campbell.armymwr.com/calendar/event
DTSTART;TZID=America/Chicago:20251225T110000
DTEND;TZID=America/Chicago:20251225T140000
SEQUENCE:0
END:VEVENT
END:VCALENDAR
