BEGIN:VCALENDAR
VERSION:2.0
PRODID:-//Sabre//Sabre VObject 4.5.8//EN
CALSCALE:GREGORIAN
BEGIN:VEVENT
UID:sabre-vobject-2ded576f-5eb0-483e-81bd-05ba9233dad3
DTSTAMP:20260424T102700Z
SUMMARY:Bowl in the New Year at Hooper Bowling Center
DESCRIPTION:Ring in 2026 with friends\, family\, and fun at Hooper Bowling 
 Center on New Year&rsquo\;s Eve\, Tuesday\, December 31st\, from 9 pm to 1
 2:30 am New Years Day!\n
X-ALT-DESC:FMTTYPE=text/html:<!DOCTYPE HTML PUBLIC "-//W3C//DTD HTML 3.2//E
 N"><HTML><p>Ring in 2026 with friends\, family\, and fun at Hooper Bowling
  Center on New Year&rsquo\;s Eve\, Tuesday\, December 31st\, from 9 pm to 
 12:30 am New Years Day!</p>\n</HTML>
CREATED;TZID=America/Chicago:20251120T144300
URL;VALUE=URI:https://campbell.armymwr.com/calendar/event
DTSTART;TZID=America/Chicago:20251231T210000
DTEND;TZID=America/Chicago:20260101T003000
SEQUENCE:0
END:VEVENT
END:VCALENDAR
